BEGIN:VCALENDAR
PRODID:-//kirchenweb.ch gmbh//veranstaltungsausgabe v2.0//DE
VERSION:2.0
METHOD:PUBLISH
BEGIN:VEVENT
DTSTART:20260505T071500Z
DTEND:20260505T081500Z
LOCATION:Kath. Kirche Bülach\, Spitalstrasse16\, 8180 Bülach
TRANSP:OPAQUE
SEQUENCE:0
UID:12443-veranstaltung@kath-buelach.ch
DTSTAMP:20260330T125119Z
DESCRIPTION:Zum Gedenktag des hl. Blasius mit Halssegnung\n\nKontakt:
  sekretariat.pfarramt@kath-buelach.ch\n\nWeitere Infos:
  https://www.kath-buelach.ch/veranstaltung/12443
SUMMARY:Eucharistiefeier dt./ ital.
PRIORITY:5
X-MICROSOFT-CDO-IMPORTANCE:1
CLASS:PUBLIC
END:VEVENT
END:VCALENDAR
