BEGIN:VCALENDAR
PRODID:-//kirchenweb.ch gmbh//veranstaltungsausgabe v2.0//DE
VERSION:2.0
METHOD:PUBLISH
BEGIN:VEVENT
DTSTART:20260504T070000Z
DTEND:20260504T080000Z
LOCATION:Kath. Kirche Bülach\, Spitalstrasse16\, 8180 Bülach
TRANSP:OPAQUE
SEQUENCE:0
UID:12427-veranstaltung@kath-buelach.ch
DTSTAMP:20260304T142902Z
DESCRIPTION:mit anschliessender Maiandacht\n\nKontakt:
  sekretariat.pfarramt@kath-buelach.ch\n\nWeitere Infos:
  https://www.kath-buelach.ch/veranstaltung/12427
SUMMARY:Eucharistiefeier mit Radio Maria und anschliessender Maiandacht
PRIORITY:5
X-MICROSOFT-CDO-IMPORTANCE:1
CLASS:PUBLIC
END:VEVENT
END:VCALENDAR
