BEGIN:VCALENDAR
PRODID:-//kirchenweb.ch gmbh//veranstaltungsausgabe v2.0//DE
VERSION:2.0
METHOD:PUBLISH
BEGIN:VEVENT
DTSTART:20251219T053000Z
DTEND:20251219T063000Z
LOCATION:Kath. Kirche Bülach\, Spitalstrasse16\, 8180 Bülach
TRANSP:OPAQUE
SEQUENCE:0
UID:12050-veranstaltung@kath-buelach.ch
DTSTAMP:20250922T134558Z
DESCRIPTION:Für die Pfarrei\n\nKontakt:
  sekretariat.pfarramt@kath-buelach.ch\n\nWeitere Infos:
  https://www.kath-buelach.ch/veranstaltung/12050
SUMMARY:Rorate
PRIORITY:5
X-MICROSOFT-CDO-IMPORTANCE:1
CLASS:PUBLIC
END:VEVENT
END:VCALENDAR
