BEGIN:VCALENDAR
PRODID:-//kirchenweb.ch gmbh//veranstaltungsausgabe v2.0//DE
VERSION:2.0
METHOD:PUBLISH
BEGIN:VEVENT
DTSTART:20251216T181500Z
DTEND:20251216T191500Z
LOCATION:Krypta\, Spitalstrasse14\, 8180 Bülach
TRANSP:OPAQUE
SEQUENCE:0
UID:12047-veranstaltung@kath-buelach.ch
DTSTAMP:20250922T151450Z
DESCRIPTION:Kontakt: sekretariat.pfarramt@kath-buelach.ch\n\nWeitere
  Infos: https://www.kath-buelach.ch/veranstaltung/12047
SUMMARY:MCLI: Novena di Natale (Krypta)
PRIORITY:5
X-MICROSOFT-CDO-IMPORTANCE:1
CLASS:PUBLIC
END:VEVENT
END:VCALENDAR
