BEGIN:VCALENDAR
PRODID:-//kirchenweb.ch gmbh//veranstaltungsausgabe v2.0//DE
VERSION:2.0
METHOD:PUBLISH
BEGIN:VEVENT
DTSTART:20250901T071500Z
DTEND:20250901T081500Z
LOCATION:Kath. Kirche Bülach\, Spitalstrasse16\, 8180 Bülach
TRANSP:OPAQUE
SEQUENCE:0
UID:11753-veranstaltung@kath-buelach.ch
DTSTAMP:20250922T132316Z
DESCRIPTION:Legat: Toni Scherzinger\, Ungarn\n\nKontakt:
  sekretariat.pfarramt@kath-buelach.ch\n\nWeitere Infos:
  https://www.kath-buelach.ch/veranstaltung/11753
SUMMARY:Eucharistiefeier
PRIORITY:5
X-MICROSOFT-CDO-IMPORTANCE:1
CLASS:PUBLIC
END:VEVENT
END:VCALENDAR
