BEGIN:VCALENDAR
PRODID:-//kirchenweb.ch gmbh//veranstaltungsausgabe v2.0//DE
VERSION:2.0
METHOD:PUBLISH
BEGIN:VEVENT
DTSTART:20250720T080000Z
DTEND:20250720T090000Z
LOCATION:Kath. Kirche Bülach\, Spitalstrasse16\, 8180 Bülach
TRANSP:OPAQUE
SEQUENCE:0
UID:11670-veranstaltung@kath-buelach.ch
DTSTAMP:20250429T144656Z
DESCRIPTION:Kontakt: sekretariat.pfarramt@kath-buelach.ch\n\nWeitere
  Infos: https://www.kath-buelach.ch/veranstaltung/11670
SUMMARY:Eucharistiefeier
PRIORITY:5
X-MICROSOFT-CDO-IMPORTANCE:1
CLASS:PUBLIC
END:VEVENT
END:VCALENDAR
