BEGIN:VCALENDAR
PRODID:-//kirchenweb.ch gmbh//veranstaltungsausgabe v2.0//DE
VERSION:2.0
METHOD:PUBLISH
BEGIN:VEVENT
DTSTART:20250426T153000Z
DTEND:20250426T163000Z
LOCATION:kath. Kirche\, \,
TRANSP:OPAQUE
SEQUENCE:0
UID:11449-veranstaltung@kath-buelach.ch
DTSTAMP:20250213T093112Z
DESCRIPTION:mit Pater Kulangara\n\nKontakt:
  sekretariat.pfarramt@kath-buelach.ch\n\nWeitere Infos:
  https://www.kath-buelach.ch/veranstaltung/11449
SUMMARY:Eucharistiefeier
PRIORITY:5
X-MICROSOFT-CDO-IMPORTANCE:1
CLASS:PUBLIC
END:VEVENT
END:VCALENDAR
