BEGIN:VCALENDAR
PRODID:-//kirchenweb.ch gmbh//veranstaltungsausgabe v2.0//DE
VERSION:2.0
METHOD:PUBLISH
BEGIN:VEVENT
DTSTART:20250307T123000Z
DTEND:20250307T133000Z
LOCATION:Kath. Pfarreizentrum Bülach\, Scheuchzerstrasse 3\, 8180 Bülach
TRANSP:OPAQUE
SEQUENCE:0
UID:11427-veranstaltung@kath-buelach.ch
DTSTAMP:20250205T095340Z
DESCRIPTION:Kontakt: sekretariat.pfarramt@kath-buelach.ch\n\nWeitere
  Infos: https://www.kath-buelach.ch/veranstaltung/11427
SUMMARY:Jassgruppe St. Laurentius
PRIORITY:5
X-MICROSOFT-CDO-IMPORTANCE:1
CLASS:PUBLIC
END:VEVENT
END:VCALENDAR
