BEGIN:VCALENDAR
PRODID:-//kirchenweb.ch gmbh//veranstaltungsausgabe v2.0//DE
VERSION:2.0
METHOD:PUBLISH
BEGIN:VEVENT
DTSTART:20250427T064500Z
DTEND:20250427T074500Z
LOCATION:Kath. Kirche Bülach\, Spitalstrasse16\, 8180 Bülach
TRANSP:OPAQUE
SEQUENCE:0
UID:11420-veranstaltung@kath-buelach.ch
DTSTAMP:20250213T093258Z
DESCRIPTION:mit Pater Kulangara\n\nKontakt:
  sekretariat.pfarramt@kath-buelach.ch\n\nWeitere Infos:
  https://www.kath-buelach.ch/veranstaltung/11420
SUMMARY:Eucharistiefeier
PRIORITY:5
X-MICROSOFT-CDO-IMPORTANCE:1
CLASS:PUBLIC
END:VEVENT
END:VCALENDAR
