BEGIN:VCALENDAR
PRODID:-//kirchenweb.ch gmbh//veranstaltungsausgabe v2.0//DE
VERSION:2.0
METHOD:PUBLISH
BEGIN:VEVENT
DTSTART:20250413T060500Z
DTEND:20250413T070500Z
LOCATION:Kath. Kirche Bülach\, Spitalstrasse16\, 8180 Bülach
TRANSP:OPAQUE
SEQUENCE:0
UID:11414-veranstaltung@kath-buelach.ch
DTSTAMP:20250205T093405Z
DESCRIPTION:Kontakt: sekretariat.pfarramt@kath-buelach.ch\n\nWeitere
  Infos: https://www.kath-buelach.ch/veranstaltung/11414
SUMMARY:Rosenkranz-Gemeinschaftsgebet in der Krypta und Beichtgelegenheit
  im Pfarramt
PRIORITY:5
X-MICROSOFT-CDO-IMPORTANCE:1
CLASS:PUBLIC
END:VEVENT
END:VCALENDAR
