BEGIN:VCALENDAR
PRODID:-//kirchenweb.ch gmbh//veranstaltungsausgabe v2.0//DE
VERSION:2.0
METHOD:PUBLISH
BEGIN:VEVENT
DTSTART:20250401T160000Z
DTEND:20250401T170000Z
LOCATION:Krypta\, Spitalstrasse14\, 8180 Bülach
TRANSP:OPAQUE
SEQUENCE:0
UID:11408-veranstaltung@kath-buelach.ch
DTSTAMP:20250213T140218Z
DESCRIPTION:Kontakt: sekretariat.pfarramt@kath-buelach.ch\n\nWeitere
  Infos: https://www.kath-buelach.ch/veranstaltung/11408
SUMMARY:Gebetsgruppe
PRIORITY:5
X-MICROSOFT-CDO-IMPORTANCE:1
CLASS:PUBLIC
END:VEVENT
END:VCALENDAR
