BEGIN:VCALENDAR
PRODID:-//kirchenweb.ch gmbh//veranstaltungsausgabe v2.0//DE
VERSION:2.0
METHOD:PUBLISH
BEGIN:VEVENT
DTSTART:20241208T100000Z
DTEND:20241208T110000Z
LOCATION:Bachenbülach\, \,
TRANSP:OPAQUE
SEQUENCE:0
UID:11115-veranstaltung@kath-buelach.ch
DTSTAMP:20240815T135843Z
DESCRIPTION:Kontakt: sekretariat.pfarramt@kath-buelach.ch\n\nWeitere
  Infos: https://www.kath-buelach.ch/veranstaltung/11115
SUMMARY:ökumenischer Gottesdienst Bachenbülach
PRIORITY:5
X-MICROSOFT-CDO-IMPORTANCE:1
CLASS:PUBLIC
END:VEVENT
END:VCALENDAR
