BEGIN:VCALENDAR
PRODID:-//kirchenweb.ch gmbh//veranstaltungsausgabe v2.0//DE
VERSION:2.0
METHOD:PUBLISH
BEGIN:VEVENT
DTSTART:20241203T160000Z
DTEND:20241203T170000Z
LOCATION:Krypta\, Spitalstrasse14\, 8180 Bülach
TRANSP:OPAQUE
SEQUENCE:0
UID:11093-veranstaltung@kath-buelach.ch
DTSTAMP:20240815T134740Z
DESCRIPTION:Kontakt: sekretariat.pfarramt@kath-buelach.ch\n\nWeitere
  Infos: https://www.kath-buelach.ch/veranstaltung/11093
SUMMARY:Anbetung
PRIORITY:5
X-MICROSOFT-CDO-IMPORTANCE:1
CLASS:PUBLIC
END:VEVENT
END:VCALENDAR
