BEGIN:VCALENDAR
PRODID:-//kirchenweb.ch gmbh//veranstaltungsausgabe v2.0//DE
VERSION:2.0
METHOD:PUBLISH
BEGIN:VEVENT
DTSTART:20241112T130000Z
DTEND:20241112T140000Z
LOCATION:Kath. Pfarreizentrum Bülach\, Scheuchzerstrasse 3\, 8180 Bülach
TRANSP:OPAQUE
SEQUENCE:0
UID:11059-veranstaltung@kath-buelach.ch
DTSTAMP:20241120T153528Z
DESCRIPTION:Kontakt: sekretariat.pfarramt@kath-buelach.ch\n\nWeitere
  Infos: https://www.kath-buelach.ch/veranstaltung/11059
SUMMARY:Tombola
PRIORITY:5
X-MICROSOFT-CDO-IMPORTANCE:1
CLASS:PUBLIC
END:VEVENT
END:VCALENDAR
