BEGIN:VCALENDAR
PRODID:-//kirchenweb.ch gmbh//veranstaltungsausgabe v2.0//DE
VERSION:2.0
METHOD:PUBLISH
BEGIN:VEVENT
DTSTART:20240922T064500Z
DTEND:20240922T074500Z
LOCATION:Kath. Pfarreizentrum Bülach\, Scheuchzerstrasse 3\, 8180 Bülach
TRANSP:OPAQUE
SEQUENCE:0
UID:10917-veranstaltung@kath-buelach.ch
DTSTAMP:20240729T141546Z
DESCRIPTION:Kontakt: sekretariat.pfarramt@kath-buelach.ch\n\nWeitere
  Infos: https://www.kath-buelach.ch/veranstaltung/10917
SUMMARY:Eucharistiefeier und Sonntagscafé mit Aushilfspriester Markus
  Weber
PRIORITY:5
X-MICROSOFT-CDO-IMPORTANCE:1
CLASS:PUBLIC
END:VEVENT
END:VCALENDAR
