BEGIN:VCALENDAR
PRODID:-//kirchenweb.ch gmbh//veranstaltungsausgabe v2.0//DE
VERSION:2.0
METHOD:PUBLISH
BEGIN:VEVENT
DTSTART:20240523T100000Z
DTEND:20240523T110000Z
LOCATION:Kath. Pfarreizentrum Bülach\, Scheuchzerstrasse 3\, 8180 Bülach
TRANSP:OPAQUE
SEQUENCE:0
UID:10647-veranstaltung@kath-buelach.ch
DTSTAMP:20240229T162639Z
DESCRIPTION:Anmeldungen nimmt das Sekretariat bis Montag vor dem Anlass
  an\, Tel. 043 411 30 30.\n\nKontakt: sekretariat.pfarramt@kath-buelach.ch
 \n\nWeitere Infos: https://www.kath-buelach.ch/veranstaltung/10647
SUMMARY:Seniorenessen
PRIORITY:5
X-MICROSOFT-CDO-IMPORTANCE:1
CLASS:PUBLIC
END:VEVENT
END:VCALENDAR
